BEGIN:VCALENDAR
VERSION:2.0
PRODID:-//ChamberMaster//Event Calendar 2.0//EN
METHOD:PUBLISH
X-PUBLISHED-TTL:P3D
REFRESH-INTERVAL:P3D
CALSCALE:GREGORIAN
BEGIN:VEVENT
DTSTART:20241107T140000Z
DTEND:20241107T180000Z
X-MICROSOFT-CDO-ALLDAYEVENT:FALSE
SUMMARY:Texas Watershed Steward Workshop
DESCRIPTION:On November 7th\, the Texas A&M AgriLife Extension Service will host a free Texas Watershed Steward workshop in Caldwell. Water quality related to Davidson Creek\, along with land and watershed management\, will be discussed. Topics will include water quality\, water quality law\, agricultural and urban best management practices\, hydrology\, and others. The event and its available continuing education credits are free and open to the public. The program will also include a free lunch for pre-registered attendees who register by November 4th.   \n\nThe professional continuing education credits offered are applicable to\, but are not limited to\, Texas Department of Agriculture private pesticide license holders (3 general CEUs)\, professional engineers\, AICP certified planers\, professional geoscientists\, certified teachers\, certified floodplain managers\, certified crop advisors\, and select TCEQ occupational license holders.\n\nFor a complete list of continuing education offered\, or to register\, visit our website: https://tws.tamu.edu/workshops/registration\n\nOr call: 979-321-5935
X-ALT-DESC;FMTTYPE=text/html:<span style="font-size:14px\;"><span style="font-family:arial\;"><span style="background-color: rgb(255\, 255\, 255)\;">On November 7</span><sup style="color: rgb(31\, 73\, 125)\; font-family: Aptos\, sans-serif\; background-color: rgb(255\, 255\, 255)\;">th</sup><span style="background-color: rgb(255\, 255\, 255)\;">\, the Texas A&amp\;M AgriLife Extension Service will host a free Texas Watershed Steward workshop in Caldwell. Water quality related to Davidson Creek\, along with land and watershed management\, will be discussed. Topics will include water quality\, water quality law\, agricultural and urban best management practices\, hydrology\, and others.&nbsp\;The event and its available continuing education credits are free and open to the public. The program will also include a free lunch for pre-registered attendees who register by November 4th.</span><sup style="color: rgb(31\, 73\, 125)\; font-family: Aptos\, sans-serif\; background-color: rgb(255\, 255\, 255)\;">&nbsp\; &nbsp\;</sup><br />\n<span style="background-color: rgb(255\, 255\, 255)\;">The professional continuing education credits offered are applicable to\, but are not limited to\, Texas Department of Agriculture private pesticide license holders (3 general CEUs)\, professional engineers\, AICP certified planers\, professional geoscientists\, certified teachers\, certified floodplain managers\, certified crop advisors\, and select TCEQ occupational license holders.</span><br />\nFor a complete list of continuing education offered\, or to register\, visit our website: https://tws.tamu.edu/workshops/registration<br />\nOr call: 979-321-5935</span></span>
LOCATION:Burleson County Extension Office 1516 FM 166\, Caldwell\, TX 77836
UID:e.2777.9414
SEQUENCE:3
DTSTAMP:20260425T122531Z
URL:https://business.burlesoncountytx.com/events/details/texas-watershed-steward-workshop-9414
END:VEVENT

END:VCALENDAR
