BEGIN:VCALENDAR
VERSION:2.0
PRODID:-//ChamberMaster//Event Calendar 2.0//EN
METHOD:PUBLISH
X-PUBLISHED-TTL:P3D
REFRESH-INTERVAL:P3D
CALSCALE:GREGORIAN
BEGIN:VEVENT
DTSTART:20241102T130000Z
DTEND:20241102T210000Z
X-MICROSOFT-CDO-ALLDAYEVENT:FALSE
SUMMARY:Texas Czech Genealogical Society: A Salute to Our Veterans Past and Present
DESCRIPTION:The Texas Czech Genealogical Society (TCGS) recently relocated to Caldwell invites everyone to attend the November 2\, 2024 Event. You do not have to be a TCGS member or of Czech heritage to attend. The following speakers will make presentations: Colonel Thomas J. (Jerry) Curtis - Seven and a Half Year in Captivity in North Vietnam\; Joe Rychlik - Recalling Military Experiences\; Patrick Janis - U.S. Navy Lt. Arthur F. Anders: The Czech Texan Who Was the Hero of the First U.S. Battle of WWII\; Kimary and Garry Marble - How Are We Related to Veterans? and C. David Stasny\, JD - Estate Planning: Trusts\, and Medical Powers of Attorney\, and the Challenges of Preserving Family Land Registration includes kolache and coffee or juice and a catered lunch\, silent auction and sales tables with our newest 2024 Christmas Ornaments. Detailed information and registration forms files are attached below and on the TCGS website at https://www.txczgs.org under "Events" https://txczgs.org/eventListings.php?nm=38. To register by credit card please go to: https://txczgs.square.site/product/registration/122 OR Mail check made payable to TCGS and send with Registration form to: Kimary Marble\, 14106 Pawnee Trails Dr.\, Cypress\, TX 77429. For further information\, Kimary can be reached at 832-906-0986 and at kimary12@gmail.com. If postmarked on/before October 25\, 2024 TCGS members $40.00 and non-TCGS members $45.00\; if post-marked after October 25\, 2024 TCGS members $45.00 and non-TCGS members $50.00\; and at the door (All) - $60.00. The Texas Czech Genealogical Society is a 501(c)(3) nonprofit organization.
X-ALT-DESC;FMTTYPE=text/html:The Texas Czech Genealogical Society (TCGS) recently relocated to Caldwell invites everyone to attend the November 2\, 2024 Event. You do not have to be a TCGS member or of Czech heritage to attend. The following speakers will make presentations: Colonel Thomas J. (Jerry) Curtis - Seven and a Half Year in Captivity in North Vietnam\; Joe Rychlik - Recalling Military Experiences\; Patrick Janis - U.S. Navy Lt. Arthur F. Anders: The Czech Texan Who Was the Hero of the First U.S. Battle of WWII\; Kimary and Garry Marble - How Are We Related to Veterans? and C. David Stasny\, JD - Estate Planning: Trusts\, and Medical Powers of Attorney\, and the Challenges of Preserving Family Land Registration includes kolache and coffee or juice and a catered lunch\, silent auction and sales tables with our newest 2024 Christmas Ornaments. Detailed information and registration forms files are attached below and on the TCGS website at https://www.txczgs.org under &ldquo\;Events&rdquo\; https://txczgs.org/eventListings.php?nm=38. To register by credit card please go to: https://txczgs.square.site/product/registration/122 OR Mail check made payable to TCGS and send with Registration form to: Kimary Marble\, 14106 Pawnee Trails Dr.\, Cypress\, TX 77429. For further information\, Kimary can be reached at 832-906-0986 and at kimary12@gmail.com. If postmarked on/before October 25\, 2024 TCGS members $40.00 and non-TCGS members $45.00\; if post-marked after October 25\, 2024 TCGS members $45.00 and non-TCGS members $50.00\; and at the door (All) - $60.00. The Texas Czech Genealogical Society is a 501(c)(3) nonprofit organization.
LOCATION:Caldwell Civic Center\, 103 Hwy. Texas 21 W.\, Caldwell\, TX 77836
UID:e.2777.9405
SEQUENCE:3
DTSTAMP:20260425T122611Z
URL:https://business.burlesoncountytx.com/events/details/texas-czech-genealogical-society-a-salute-to-our-veterans-past-and-present-9405
END:VEVENT

END:VCALENDAR
