BEGIN:VCALENDAR
VERSION:2.0
PRODID:-//ChamberMaster//Event Calendar 2.0//EN
METHOD:PUBLISH
X-PUBLISHED-TTL:P3D
REFRESH-INTERVAL:P3D
CALSCALE:GREGORIAN
BEGIN:VEVENT
DTSTART;VALUE=DATE:20241109
DTEND;VALUE=DATE:20241110
TRANSP:TRANSPARENT
X-MICROSOFT-CDO-ALLDAYEVENT:TRUE
SUMMARY:Second Saturday in Caldwell
DESCRIPTION:Join several Businesses downtown Caldwell for 2nd Saturday of each month.  Businesses stay open later and offer so much more on those days to their customers.\n\n\n\nCome Check out Downtown Caldwell each 2nd Saturday of the Month!
X-ALT-DESC;FMTTYPE=text/html:Join several Businesses downtown Caldwell for 2nd Saturday of each month.&nbsp\; Businesses stay open later and offer so much more on those days to their customers.<br />\n<br />\nCome Check out Downtown Caldwell each 2nd&nbsp\;Saturday of the Month!
LOCATION:Downtown Caldwell on and around the Square.
UID:e.2777.5681
SEQUENCE:3
DTSTAMP:20260425T122000Z
URL:https://business.burlesoncountytx.com/events/details/second-saturday-in-caldwell-11-09-2024-5681
END:VEVENT

END:VCALENDAR
