BEGIN:VCALENDAR
VERSION:2.0
PRODID:-//ChamberMaster//Event Calendar 2.0//EN
METHOD:PUBLISH
X-PUBLISHED-TTL:P3D
REFRESH-INTERVAL:P3D
CALSCALE:GREGORIAN
BEGIN:VEVENT
DTSTART;VALUE=DATE:20231216
DTEND;VALUE=DATE:20231217
TRANSP:TRANSPARENT
X-MICROSOFT-CDO-ALLDAYEVENT:TRUE
SUMMARY:Santaville
DESCRIPTION:Annual Santaville celebration in Downtown Somerville on December 16\, 2023.  \n\nVendors\, Free Kids Activities\, Parade\, Santa and lots of Christmas cheer.
X-ALT-DESC;FMTTYPE=text/html:Annual Santaville celebration in&nbsp\;Downtown Somerville on December 16\, 2023.&nbsp\;&nbsp\;<br />\nVendors\, Free Kids Activities\, Parade\, Santa and lots of Christmas cheer.&nbsp\;
LOCATION:For more information contact: Allyson Hargrove at allyson.knoop@gmail.com
UID:e.2777.9295
SEQUENCE:3
DTSTAMP:20260425T132927Z
URL:https://business.burlesoncountytx.com/events/details/santaville-9295
END:VEVENT

END:VCALENDAR
