BEGIN:VCALENDAR
VERSION:2.0
PRODID:-//ChamberMaster//Event Calendar 2.0//EN
METHOD:PUBLISH
X-PUBLISHED-TTL:P3D
REFRESH-INTERVAL:P3D
CALSCALE:GREGORIAN
BEGIN:VEVENT
DTSTART:20221105T210000Z
DTEND:20221106T010000Z
X-MICROSOFT-CDO-ALLDAYEVENT:FALSE
SUMMARY:Fall Harvest Fest
DESCRIPTION:Fall Harvest Fest at Providence Baptist Church. There will be a bounce house\, a hayride\, pumpkin bowling\, food\, face painting & more. Something for everyone & everyone is welcome! Members\, community\, friends & family and kids of all ages.
X-ALT-DESC;FMTTYPE=text/html:Fall Harvest Fest at Providence Baptist Church. There will be a bounce house\, a hayride\, pumpkin bowling\, food\, face painting &amp\; more. Something for everyone &amp\; everyone is welcome! Members\, community\, friends &amp\; family and kids of all ages.
LOCATION:Providence Baptist Church 7770 County Road 243 Caldwell\, TX 77836
UID:e.2777.9085
SEQUENCE:3
DTSTAMP:20260426T034746Z
URL:https://business.burlesoncountytx.com/events/details/fall-harvest-fest-9085
END:VEVENT

END:VCALENDAR
