BEGIN:VCALENDAR
VERSION:2.0
PRODID:-//ChamberMaster//Event Calendar 2.0//EN
METHOD:PUBLISH
X-PUBLISHED-TTL:P3D
REFRESH-INTERVAL:P3D
CALSCALE:GREGORIAN
BEGIN:VEVENT
DTSTART:20250412T130000Z
DTEND:20250412T210000Z
X-MICROSOFT-CDO-ALLDAYEVENT:FALSE
SUMMARY:Czech Family Origins
DESCRIPTION:Saturday\, April 12\, 2025 8:00 AM Registration and Morning Refreshments\; 9:00 AM - 4:00 PM TCGS will have a full day of events including Speakers\, Gift Shop\, Silent Auction and a catered lunch at the Caldwell Civic Center. See www.txczgs.org for registration information\, form and fee. Everyone is invited to attend. Speakers: T.J. Slansky - "Researching the Opava and Brno Archives in the Czech Republic"\; Tomas Pansky - "Czech Republic "Unplugged"\; and Clint Williams - "Discovering Your Czech Roots Through Oral Histories". Registration fee INCLUDES catered lunch\; kolaches\, coffee & orange juice refreshments PLEASE REGISTER IN ADVANCE: TCGS Members-$45\; Non-Members-$50\; At the door (All) - $60. Detailed information and registration forms are on the TCGS website at https://www.txczgs.org under "Events" https://txczgs.org/eventListings.php?nm=38. To register by credit card please go to txczgs.square.site OR mail check made payable to TCGS and send with Registration form to: Kimary Marble\, 14106 Pawnee Trails Dr.\, Cypress\, TX 77429. For further information\, Kimary can be reached at 832-906-0986 and at kimary12@gmail.com. Cancellations are accepted up to a week prior to event. Everyone is welcome. Membership in Texas Czech Genealogical Society (TCGS) is not required to attend. TCGS is a 501(c)(3) non-profit organization.
X-ALT-DESC;FMTTYPE=text/html:Saturday\, April 12\, 2025 8:00 AM Registration and Morning Refreshments\; 9:00 AM - 4:00 PM TCGS will have a full day of events including Speakers\, Gift Shop\, Silent Auction and a catered lunch at the Caldwell Civic Center. See www.txczgs.org for registration information\, form and fee. Everyone is invited to attend. Speakers: T.J. Slansky - &quot\;Researching the Opava and Brno Archives in the Czech Republic&quot\;\; Tomas Pansky - &quot\;Czech Republic &quot\;Unplugged&quot\;\; and Clint Williams - &quot\;Discovering Your Czech Roots Through Oral Histories&quot\;. Registration fee INCLUDES catered lunch\; kolaches\, coffee &amp\; orange juice refreshments PLEASE REGISTER IN ADVANCE: TCGS Members-$45\; Non-Members-$50\; At the door (All) - $60. Detailed information and registration forms are on the TCGS website at https://www.txczgs.org under &ldquo\;Events&rdquo\; https://txczgs.org/eventListings.php?nm=38. To register by credit card please go to txczgs.square.site OR mail check made payable to TCGS and send with Registration form to: Kimary Marble\, 14106 Pawnee Trails Dr.\, Cypress\, TX 77429. For further information\, Kimary can be reached at 832-906-0986 and at kimary12@gmail.com. Cancellations are accepted up to a week prior to event. Everyone is welcome. Membership in Texas Czech Genealogical Society (TCGS) is not required to attend. TCGS is a 501(c)(3) non-profit organization.
LOCATION:Caldwell Civic and Visitor Center\, 103 Texas Hwy. 21 West\, Caldwell\, TX 77836
UID:e.2777.9472
SEQUENCE:3
DTSTAMP:20260426T042330Z
URL:https://business.burlesoncountytx.com/events/details/czech-family-origins-04-12-2025-9472
END:VEVENT

END:VCALENDAR
