BEGIN:VCALENDAR
VERSION:2.0
PRODID:-//ChamberMaster//Event Calendar 2.0//EN
METHOD:PUBLISH
X-PUBLISHED-TTL:P3D
REFRESH-INTERVAL:P3D
CALSCALE:GREGORIAN
BEGIN:VEVENT
DTSTART:20241207T140000Z
DTEND:20241207T160000Z
X-MICROSOFT-CDO-ALLDAYEVENT:FALSE
SUMMARY:Breakfast with Santa
DESCRIPTION:Enjoy a breakfast of pancakes and Slovacek's sausage with Santa! Everyone is welcome and you won't want to miss the holiday fun!\n\nBring your camera and take pictures of your child/children with Santa!\n\nThere will also be a bake sale with lots of Christmas Goodies!
X-ALT-DESC;FMTTYPE=text/html:Enjoy a breakfast of pancakes and Slovacek&#39\;s sausage with Santa! Everyone is welcome and you won&#39\;t want to miss the holiday fun!<br />\nBring your camera and take pictures of your child/children with Santa!<br />\nThere will also be a bake sale with lots of Christmas Goodies!
LOCATION:St. Mary Catholic Church's Parish Activity Center (enter at back of Church)
UID:e.2777.9432
SEQUENCE:3
DTSTAMP:20260425T135505Z
URL:https://business.burlesoncountytx.com/events/details/breakfast-with-santa-9432
END:VEVENT

END:VCALENDAR
