BEGIN:VCALENDAR
VERSION:2.0
PRODID:-//ChamberMaster//Event Calendar 2.0//EN
METHOD:PUBLISH
X-PUBLISHED-TTL:P3D
REFRESH-INTERVAL:P3D
CALSCALE:GREGORIAN
BEGIN:VEVENT
DTSTART:20230330T230000Z
DTEND:20230331T020000Z
X-MICROSOFT-CDO-ALLDAYEVENT:FALSE
SUMMARY:Annual Banquet
DESCRIPTION:Annual Banquet\, held this year at Double Creek Crossing is the year-end meeting held to review annual highlights\, outline future objectives\, recognize volunteers and present annual awards. Our speaker this year is a crowd favorite\, Somerville's very own Dr. Gena Jerkins.\n\nPlease mark your calendar you will not want to miss this event.
X-ALT-DESC;FMTTYPE=text/html:<span class="S1PPyQ" style="color: rgb(0\, 0\, 0)\;">Annual Banquet\, held this year at Double Creek Crossing is the year-end meeting held to review annual highlights\, outline future objectives\, recognize volunteers and present annual awards. Our speaker this year is a crowd favorite\, Somerville&#39\;s very own Dr. Gena Jerkins.<br />\nPlease mark your calendar you will not want to miss this event.</span>
LOCATION:Double Creek Crossing 590 FM-1362 N Caldwell\, TX
UID:e.2777.9095
SEQUENCE:3
DTSTAMP:20260421T114532Z
URL:https://business.burlesoncountytx.com/events/details/annual-banquet-9095
END:VEVENT

END:VCALENDAR
