BEGIN:VCALENDAR
VERSION:2.0
PRODID:-//ChamberMaster//Event Calendar 2.0//EN
METHOD:PUBLISH
X-PUBLISHED-TTL:P3D
REFRESH-INTERVAL:P3D
CALSCALE:GREGORIAN
BEGIN:VEVENT
DTSTART:20230401T150000Z
DTEND:20230401T190000Z
X-MICROSOFT-CDO-ALLDAYEVENT:FALSE
SUMMARY:2023 Art Walk
DESCRIPTION:This event will put the spotlight on our arts community. Join your downtown merchants as they host artists in their shops and restaurants for this event on Saturday\, April 1\, 2023\,  10 am   2 pm. If you are an artist and would like to participate\, please contact the Chamber at 979-567-0000. \n\nHERE IS A MAP TO FIND THE ARTISTS CLICK HERE
X-ALT-DESC;FMTTYPE=text/html:<div class="m8h3af8h l7ghb35v kjdc1dyq kmwttqpk gh25dzvf" style="overflow-wrap: break-word\; margin: 0px\; font-family: inherit\;"><span class="gvxzyvdx aeinzg81 t7p7dqev gh25dzvf exr7barw b6ax4al1 gem102v4 ncib64c9 mrvwc6qr sx8pxkcf f597kf1v cpcgwwas m2nijcs8 hxfwr5lz k1z55t6l oog5qr5w tes86rjd pbevjfx6" color:="" dir="auto" font-size:="" line-height:="" margin-top:="" max-width:="" overflow-wrap:="" segoe="" style="min-width: 0px\; display: block\; font-family: " ui="" word-break:="">This event will put the spotlight on our arts community. Join your downtown merchants as they host artists in their shops and restaurants for this event on Saturday\, April 1\, 2023\,&nbsp\;&nbsp\;10&nbsp\;am &ndash\; 2 pm. If you are an artist and would like to participate\, please contact the Chamber at 979-567-0000.&nbsp\;<br />\n<a href="https://chambermaster.blob.core.windows.net/userfiles/UserFiles/chambers/2777/File/2023/ArtWalkMap.pdf">HERE IS A MAP TO FIND THE ARTISTS CLICK HERE</a></span><br />\n&nbsp\;</div>\n
LOCATION:On the Square in Downtown Caldwell
UID:e.2777.9100
SEQUENCE:3
DTSTAMP:20260422T162122Z
URL:https://business.burlesoncountytx.com/events/details/2023-art-walk-9100
END:VEVENT

END:VCALENDAR
