BEGIN:VCALENDAR
VERSION:2.0
PRODID:-//ChamberMaster//Event Calendar 2.0//EN
METHOD:PUBLISH
X-PUBLISHED-TTL:P3D
REFRESH-INTERVAL:P3D
CALSCALE:GREGORIAN
BEGIN:VEVENT
DTSTART:20220716T140000Z
DTEND:20220716T190000Z
X-MICROSOFT-CDO-ALLDAYEVENT:FALSE
SUMMARY:2022 Chamber Business Expo
DESCRIPTION:With the potential new growth and all the interest in Burleson County and the surrounding area\, the Burleson County Chamber will be hosting the first ever Chamber Expo. This is a great opportunity for all the local businesses to show visitors\, as well as new people to the area\, everything our town has to offer. This is a new and exciting event\, and another great way the chamber can help you!\n\n\n\nPlease mark your calendar for Saturday\, July 16th to participate in this great event. The July Chamber Expo will be from 9am until 2pm. To participate click here.
X-ALT-DESC;FMTTYPE=text/html:With the potential new growth and all the interest in Burleson County and the surrounding area\, the Burleson County Chamber will be hosting the first ever Chamber Expo. This is a great opportunity for all the local businesses to show visitors\, as well as new people to the area\, everything our town has to offer. This is a new and exciting event\, and another great way the chamber can help you!<br />\n<br />\nPlease mark your calendar for Saturday\, July 16th to participate in this great event. The July Chamber Expo will be from 9am until 2pm. To participate <a href="https://chambermaster.blob.core.windows.net/userfiles/UserFiles/chambers/2777/File/2022/2022ChamberBusinessExpoParticipationForm.pdf">click here</a>.
LOCATION:Circle C Barn Venue 245 Country Club Drive Caldwell\, TX 77836
UID:e.2777.9061
SEQUENCE:3
DTSTAMP:20260424T011846Z
URL:https://business.burlesoncountytx.com/events/details/2022-chamber-business-expo-9061
END:VEVENT

END:VCALENDAR
